BEGIN:VCALENDAR
VERSION:2.0
PRODID:-//CTXMLS - ECPv6.15.20//NONSGML v1.0//EN
CALSCALE:GREGORIAN
METHOD:PUBLISH
X-ORIGINAL-URL:https://ctxmls.com
X-WR-CALDESC:Events for CTXMLS
REFRESH-INTERVAL;VALUE=DURATION:PT1H
X-Robots-Tag:noindex
X-PUBLISHED-TTL:PT1H
BEGIN:VTIMEZONE
TZID:America/Chicago
BEGIN:DAYLIGHT
TZOFFSETFROM:-0600
TZOFFSETTO:-0500
TZNAME:CDT
DTSTART:20250309T080000
END:DAYLIGHT
BEGIN:STANDARD
TZOFFSETFROM:-0500
TZOFFSETTO:-0600
TZNAME:CST
DTSTART:20251102T070000
END:STANDARD
BEGIN:DAYLIGHT
TZOFFSETFROM:-0600
TZOFFSETTO:-0500
TZNAME:CDT
DTSTART:20260308T080000
END:DAYLIGHT
BEGIN:STANDARD
TZOFFSETFROM:-0500
TZOFFSETTO:-0600
TZNAME:CST
DTSTART:20261101T070000
END:STANDARD
BEGIN:DAYLIGHT
TZOFFSETFROM:-0600
TZOFFSETTO:-0500
TZNAME:CDT
DTSTART:20270314T080000
END:DAYLIGHT
BEGIN:STANDARD
TZOFFSETFROM:-0500
TZOFFSETTO:-0600
TZNAME:CST
DTSTART:20271107T070000
END:STANDARD
END:VTIMEZONE
BEGIN:VEVENT
DTSTART;TZID=America/Chicago:20260205T090000
DTEND;TZID=America/Chicago:20260205T130000
DTSTAMP:20260425T110806
CREATED:20250116T164607Z
LAST-MODIFIED:20250116T164608Z
UID:10000346-1770282000-1770296400@ctxmls.com
SUMMARY:4 Hour FREE CE Class- How to Make Your Job Easier With Clareity & Matrix
DESCRIPTION:
URL:https://ctxmls.com/event/how-to-make-your-job-easier-with-clareity-matrix-2/2026-02-05/
CATEGORIES:Education Registration Class
ORGANIZER;CN="Erica Goff":MAILTO:erica@ctxmls.com
END:VEVENT
BEGIN:VEVENT
DTSTART;TZID=America/Chicago:20260206T090000
DTEND;TZID=America/Chicago:20260206T100000
DTSTAMP:20260425T110806
CREATED:20230317T235640Z
LAST-MODIFIED:20250717T190841Z
UID:10000967-1770368400-1770372000@ctxmls.com
SUMMARY:Fine Waiver Zoom Class
DESCRIPTION:lick Here to Register or scan the below QR code:
URL:https://ctxmls.com/event/fine-waiver-zoom-class/2026-02-06/
CATEGORIES:Fine Waiver Class
ORGANIZER;CN="Erica Goff":MAILTO:erica@ctxmls.com
END:VEVENT
BEGIN:VEVENT
DTSTART;TZID=America/Chicago:20260206T100000
DTEND;TZID=America/Chicago:20260206T113000
DTSTAMP:20260425T110806
CREATED:20250305T141402Z
LAST-MODIFIED:20250305T141402Z
UID:10000405-1770372000-1770377400@ctxmls.com
SUMMARY:New Member Orientation
DESCRIPTION:
URL:https://ctxmls.com/event/new-member-orientation/2026-02-06/
ORGANIZER;CN="Erica Goff":MAILTO:erica@ctxmls.com
END:VEVENT
BEGIN:VEVENT
DTSTART;TZID=America/Chicago:20260220T090000
DTEND;TZID=America/Chicago:20260220T100000
DTSTAMP:20260425T110806
CREATED:20230317T235640Z
LAST-MODIFIED:20250717T190841Z
UID:10000968-1771578000-1771581600@ctxmls.com
SUMMARY:Fine Waiver Zoom Class
DESCRIPTION:lick Here to Register or scan the below QR code:
URL:https://ctxmls.com/event/fine-waiver-zoom-class/2026-02-20/
CATEGORIES:Fine Waiver Class
ORGANIZER;CN="Erica Goff":MAILTO:erica@ctxmls.com
END:VEVENT
BEGIN:VEVENT
DTSTART;TZID=America/Chicago:20260227T100000
DTEND;TZID=America/Chicago:20260227T113000
DTSTAMP:20260425T110806
CREATED:20250305T141730Z
LAST-MODIFIED:20250305T141730Z
UID:10000466-1772186400-1772191800@ctxmls.com
SUMMARY:New Member Orientation
DESCRIPTION:
URL:https://ctxmls.com/event/new-member-orientation-3/2026-02-27/
ORGANIZER;CN="Erica Goff":MAILTO:erica@ctxmls.com
END:VEVENT
BEGIN:VEVENT
DTSTART;TZID=America/Chicago:20260305T090000
DTEND;TZID=America/Chicago:20260305T130000
DTSTAMP:20260425T110806
CREATED:20250116T164607Z
LAST-MODIFIED:20250116T164608Z
UID:10000347-1772701200-1772715600@ctxmls.com
SUMMARY:4 Hour FREE CE Class- How to Make Your Job Easier With Clareity & Matrix
DESCRIPTION:
URL:https://ctxmls.com/event/how-to-make-your-job-easier-with-clareity-matrix-2/2026-03-05/
CATEGORIES:Education Registration Class
ORGANIZER;CN="Erica Goff":MAILTO:erica@ctxmls.com
END:VEVENT
BEGIN:VEVENT
DTSTART;TZID=America/Chicago:20260306T090000
DTEND;TZID=America/Chicago:20260306T100000
DTSTAMP:20260425T110806
CREATED:20230317T235640Z
LAST-MODIFIED:20250717T190841Z
UID:10000969-1772787600-1772791200@ctxmls.com
SUMMARY:Fine Waiver Zoom Class
DESCRIPTION:lick Here to Register or scan the below QR code:
URL:https://ctxmls.com/event/fine-waiver-zoom-class/2026-03-06/
CATEGORIES:Fine Waiver Class
ORGANIZER;CN="Erica Goff":MAILTO:erica@ctxmls.com
END:VEVENT
BEGIN:VEVENT
DTSTART;TZID=America/Chicago:20260306T100000
DTEND;TZID=America/Chicago:20260306T113000
DTSTAMP:20260425T110806
CREATED:20250305T141402Z
LAST-MODIFIED:20250305T141402Z
UID:10000406-1772791200-1772796600@ctxmls.com
SUMMARY:New Member Orientation
DESCRIPTION:
URL:https://ctxmls.com/event/new-member-orientation/2026-03-06/
ORGANIZER;CN="Erica Goff":MAILTO:erica@ctxmls.com
END:VEVENT
BEGIN:VEVENT
DTSTART;TZID=America/Chicago:20260320T090000
DTEND;TZID=America/Chicago:20260320T100000
DTSTAMP:20260425T110806
CREATED:20230317T235640Z
LAST-MODIFIED:20250717T190841Z
UID:10000970-1773997200-1774000800@ctxmls.com
SUMMARY:Fine Waiver Zoom Class
DESCRIPTION:lick Here to Register or scan the below QR code:
URL:https://ctxmls.com/event/fine-waiver-zoom-class/2026-03-20/
CATEGORIES:Fine Waiver Class
ORGANIZER;CN="Erica Goff":MAILTO:erica@ctxmls.com
END:VEVENT
BEGIN:VEVENT
DTSTART;TZID=America/Chicago:20260327T100000
DTEND;TZID=America/Chicago:20260327T113000
DTSTAMP:20260425T110806
CREATED:20250305T141730Z
LAST-MODIFIED:20250305T141730Z
UID:10000467-1774605600-1774611000@ctxmls.com
SUMMARY:New Member Orientation
DESCRIPTION:
URL:https://ctxmls.com/event/new-member-orientation-3/2026-03-27/
ORGANIZER;CN="Erica Goff":MAILTO:erica@ctxmls.com
END:VEVENT
BEGIN:VEVENT
DTSTART;TZID=America/Chicago:20260402T090000
DTEND;TZID=America/Chicago:20260402T130000
DTSTAMP:20260425T110806
CREATED:20250116T164607Z
LAST-MODIFIED:20250116T164608Z
UID:10000348-1775120400-1775134800@ctxmls.com
SUMMARY:4 Hour FREE CE Class- How to Make Your Job Easier With Clareity & Matrix
DESCRIPTION:
URL:https://ctxmls.com/event/how-to-make-your-job-easier-with-clareity-matrix-2/2026-04-02/
CATEGORIES:Education Registration Class
ORGANIZER;CN="Erica Goff":MAILTO:erica@ctxmls.com
END:VEVENT
BEGIN:VEVENT
DTSTART;TZID=America/Chicago:20260403T090000
DTEND;TZID=America/Chicago:20260403T100000
DTSTAMP:20260425T110806
CREATED:20230317T235640Z
LAST-MODIFIED:20250717T190841Z
UID:10000971-1775206800-1775210400@ctxmls.com
SUMMARY:Fine Waiver Zoom Class
DESCRIPTION:lick Here to Register or scan the below QR code:
URL:https://ctxmls.com/event/fine-waiver-zoom-class/2026-04-03/
CATEGORIES:Fine Waiver Class
ORGANIZER;CN="Erica Goff":MAILTO:erica@ctxmls.com
END:VEVENT
BEGIN:VEVENT
DTSTART;TZID=America/Chicago:20260403T100000
DTEND;TZID=America/Chicago:20260403T113000
DTSTAMP:20260425T110806
CREATED:20250305T141402Z
LAST-MODIFIED:20250305T141402Z
UID:10000407-1775210400-1775215800@ctxmls.com
SUMMARY:New Member Orientation
DESCRIPTION:
URL:https://ctxmls.com/event/new-member-orientation/2026-04-03/
ORGANIZER;CN="Erica Goff":MAILTO:erica@ctxmls.com
END:VEVENT
BEGIN:VEVENT
DTSTART;TZID=America/Chicago:20260417T090000
DTEND;TZID=America/Chicago:20260417T100000
DTSTAMP:20260425T110806
CREATED:20230317T235640Z
LAST-MODIFIED:20250717T190841Z
UID:10000972-1776416400-1776420000@ctxmls.com
SUMMARY:Fine Waiver Zoom Class
DESCRIPTION:lick Here to Register or scan the below QR code:
URL:https://ctxmls.com/event/fine-waiver-zoom-class/2026-04-17/
CATEGORIES:Fine Waiver Class
ORGANIZER;CN="Erica Goff":MAILTO:erica@ctxmls.com
END:VEVENT
BEGIN:VEVENT
DTSTART;TZID=America/Chicago:20260424T100000
DTEND;TZID=America/Chicago:20260424T113000
DTSTAMP:20260425T110806
CREATED:20250305T141730Z
LAST-MODIFIED:20250305T141730Z
UID:10000468-1777024800-1777030200@ctxmls.com
SUMMARY:New Member Orientation
DESCRIPTION:
URL:https://ctxmls.com/event/new-member-orientation-3/2026-04-24/
ORGANIZER;CN="Erica Goff":MAILTO:erica@ctxmls.com
END:VEVENT
BEGIN:VEVENT
DTSTART;TZID=America/Chicago:20260501T090000
DTEND;TZID=America/Chicago:20260501T100000
DTSTAMP:20260425T110806
CREATED:20230317T235640Z
LAST-MODIFIED:20250717T190841Z
UID:10000973-1777626000-1777629600@ctxmls.com
SUMMARY:Fine Waiver Zoom Class
DESCRIPTION:lick Here to Register or scan the below QR code:
URL:https://ctxmls.com/event/fine-waiver-zoom-class/2026-05-01/
CATEGORIES:Fine Waiver Class
ORGANIZER;CN="Erica Goff":MAILTO:erica@ctxmls.com
END:VEVENT
BEGIN:VEVENT
DTSTART;TZID=America/Chicago:20260501T100000
DTEND;TZID=America/Chicago:20260501T113000
DTSTAMP:20260425T110806
CREATED:20250305T141402Z
LAST-MODIFIED:20250305T141402Z
UID:10000408-1777629600-1777635000@ctxmls.com
SUMMARY:New Member Orientation
DESCRIPTION:
URL:https://ctxmls.com/event/new-member-orientation/2026-05-01/
ORGANIZER;CN="Erica Goff":MAILTO:erica@ctxmls.com
END:VEVENT
BEGIN:VEVENT
DTSTART;TZID=America/Chicago:20260507T090000
DTEND;TZID=America/Chicago:20260507T130000
DTSTAMP:20260425T110806
CREATED:20250116T164607Z
LAST-MODIFIED:20250116T164608Z
UID:10000349-1778144400-1778158800@ctxmls.com
SUMMARY:4 Hour FREE CE Class- How to Make Your Job Easier With Clareity & Matrix
DESCRIPTION:
URL:https://ctxmls.com/event/how-to-make-your-job-easier-with-clareity-matrix-2/2026-05-07/
CATEGORIES:Education Registration Class
ORGANIZER;CN="Erica Goff":MAILTO:erica@ctxmls.com
END:VEVENT
BEGIN:VEVENT
DTSTART;TZID=America/Chicago:20260515T090000
DTEND;TZID=America/Chicago:20260515T100000
DTSTAMP:20260425T110806
CREATED:20230317T235640Z
LAST-MODIFIED:20250717T190841Z
UID:10000974-1778835600-1778839200@ctxmls.com
SUMMARY:Fine Waiver Zoom Class
DESCRIPTION:lick Here to Register or scan the below QR code:
URL:https://ctxmls.com/event/fine-waiver-zoom-class/2026-05-15/
CATEGORIES:Fine Waiver Class
ORGANIZER;CN="Erica Goff":MAILTO:erica@ctxmls.com
END:VEVENT
BEGIN:VEVENT
DTSTART;TZID=America/Chicago:20260529T090000
DTEND;TZID=America/Chicago:20260529T100000
DTSTAMP:20260425T110806
CREATED:20230317T235640Z
LAST-MODIFIED:20250717T190841Z
UID:10000975-1780045200-1780048800@ctxmls.com
SUMMARY:Fine Waiver Zoom Class
DESCRIPTION:lick Here to Register or scan the below QR code:
URL:https://ctxmls.com/event/fine-waiver-zoom-class/2026-05-29/
CATEGORIES:Fine Waiver Class
ORGANIZER;CN="Erica Goff":MAILTO:erica@ctxmls.com
END:VEVENT
BEGIN:VEVENT
DTSTART;TZID=America/Chicago:20260529T100000
DTEND;TZID=America/Chicago:20260529T113000
DTSTAMP:20260425T110806
CREATED:20250305T141730Z
LAST-MODIFIED:20250305T141730Z
UID:10000469-1780048800-1780054200@ctxmls.com
SUMMARY:New Member Orientation
DESCRIPTION:
URL:https://ctxmls.com/event/new-member-orientation-3/2026-05-29/
ORGANIZER;CN="Erica Goff":MAILTO:erica@ctxmls.com
END:VEVENT
BEGIN:VEVENT
DTSTART;TZID=America/Chicago:20260604T090000
DTEND;TZID=America/Chicago:20260604T130000
DTSTAMP:20260425T110806
CREATED:20250116T164607Z
LAST-MODIFIED:20250116T164608Z
UID:10000350-1780563600-1780578000@ctxmls.com
SUMMARY:4 Hour FREE CE Class- How to Make Your Job Easier With Clareity & Matrix
DESCRIPTION:
URL:https://ctxmls.com/event/how-to-make-your-job-easier-with-clareity-matrix-2/2026-06-04/
CATEGORIES:Education Registration Class
ORGANIZER;CN="Erica Goff":MAILTO:erica@ctxmls.com
END:VEVENT
BEGIN:VEVENT
DTSTART;TZID=America/Chicago:20260605T100000
DTEND;TZID=America/Chicago:20260605T113000
DTSTAMP:20260425T110806
CREATED:20250305T141402Z
LAST-MODIFIED:20250305T141402Z
UID:10000409-1780653600-1780659000@ctxmls.com
SUMMARY:New Member Orientation
DESCRIPTION:
URL:https://ctxmls.com/event/new-member-orientation/2026-06-05/
ORGANIZER;CN="Erica Goff":MAILTO:erica@ctxmls.com
END:VEVENT
BEGIN:VEVENT
DTSTART;TZID=America/Chicago:20260612T090000
DTEND;TZID=America/Chicago:20260612T100000
DTSTAMP:20260425T110806
CREATED:20230317T235640Z
LAST-MODIFIED:20250717T190841Z
UID:10000976-1781254800-1781258400@ctxmls.com
SUMMARY:Fine Waiver Zoom Class
DESCRIPTION:lick Here to Register or scan the below QR code:
URL:https://ctxmls.com/event/fine-waiver-zoom-class/2026-06-12/
CATEGORIES:Fine Waiver Class
ORGANIZER;CN="Erica Goff":MAILTO:erica@ctxmls.com
END:VEVENT
BEGIN:VEVENT
DTSTART;TZID=America/Chicago:20260626T090000
DTEND;TZID=America/Chicago:20260626T100000
DTSTAMP:20260425T110806
CREATED:20230317T235640Z
LAST-MODIFIED:20250717T190841Z
UID:10000977-1782464400-1782468000@ctxmls.com
SUMMARY:Fine Waiver Zoom Class
DESCRIPTION:lick Here to Register or scan the below QR code:
URL:https://ctxmls.com/event/fine-waiver-zoom-class/2026-06-26/
CATEGORIES:Fine Waiver Class
ORGANIZER;CN="Erica Goff":MAILTO:erica@ctxmls.com
END:VEVENT
BEGIN:VEVENT
DTSTART;TZID=America/Chicago:20260626T100000
DTEND;TZID=America/Chicago:20260626T113000
DTSTAMP:20260425T110806
CREATED:20250305T141730Z
LAST-MODIFIED:20250305T141730Z
UID:10000470-1782468000-1782473400@ctxmls.com
SUMMARY:New Member Orientation
DESCRIPTION:
URL:https://ctxmls.com/event/new-member-orientation-3/2026-06-26/
ORGANIZER;CN="Erica Goff":MAILTO:erica@ctxmls.com
END:VEVENT
BEGIN:VEVENT
DTSTART;TZID=America/Chicago:20260702T090000
DTEND;TZID=America/Chicago:20260702T130000
DTSTAMP:20260425T110806
CREATED:20250116T164607Z
LAST-MODIFIED:20250116T164608Z
UID:10000351-1782982800-1782997200@ctxmls.com
SUMMARY:4 Hour FREE CE Class- How to Make Your Job Easier With Clareity & Matrix
DESCRIPTION:
URL:https://ctxmls.com/event/how-to-make-your-job-easier-with-clareity-matrix-2/2026-07-02/
CATEGORIES:Education Registration Class
ORGANIZER;CN="Erica Goff":MAILTO:erica@ctxmls.com
END:VEVENT
BEGIN:VEVENT
DTSTART;TZID=America/Chicago:20260703T100000
DTEND;TZID=America/Chicago:20260703T113000
DTSTAMP:20260425T110806
CREATED:20250305T141402Z
LAST-MODIFIED:20250305T141402Z
UID:10000410-1783072800-1783078200@ctxmls.com
SUMMARY:New Member Orientation
DESCRIPTION:
URL:https://ctxmls.com/event/new-member-orientation/2026-07-03/
ORGANIZER;CN="Erica Goff":MAILTO:erica@ctxmls.com
END:VEVENT
BEGIN:VEVENT
DTSTART;TZID=America/Chicago:20260710T090000
DTEND;TZID=America/Chicago:20260710T100000
DTSTAMP:20260425T110806
CREATED:20230317T235640Z
LAST-MODIFIED:20250717T190841Z
UID:10000978-1783674000-1783677600@ctxmls.com
SUMMARY:Fine Waiver Zoom Class
DESCRIPTION:lick Here to Register or scan the below QR code:
URL:https://ctxmls.com/event/fine-waiver-zoom-class/2026-07-10/
CATEGORIES:Fine Waiver Class
ORGANIZER;CN="Erica Goff":MAILTO:erica@ctxmls.com
END:VEVENT
BEGIN:VEVENT
DTSTART;TZID=America/Chicago:20260724T090000
DTEND;TZID=America/Chicago:20260724T100000
DTSTAMP:20260425T110806
CREATED:20230317T235640Z
LAST-MODIFIED:20250717T190841Z
UID:10000979-1784883600-1784887200@ctxmls.com
SUMMARY:Fine Waiver Zoom Class
DESCRIPTION:lick Here to Register or scan the below QR code:
URL:https://ctxmls.com/event/fine-waiver-zoom-class/2026-07-24/
CATEGORIES:Fine Waiver Class
ORGANIZER;CN="Erica Goff":MAILTO:erica@ctxmls.com
END:VEVENT
END:VCALENDAR